BEGIN:VCALENDAR
VERSION:2.0
PRODID:-//Harmony Museum - ECPv6.15.20//NONSGML v1.0//EN
CALSCALE:GREGORIAN
METHOD:PUBLISH
X-WR-CALNAME:Harmony Museum
X-ORIGINAL-URL:https://harmonymuseum.org
X-WR-CALDESC:Events for Harmony Museum
REFRESH-INTERVAL;VALUE=DURATION:PT1H
X-Robots-Tag:noindex
X-PUBLISHED-TTL:PT1H
BEGIN:VTIMEZONE
TZID:America/New_York
BEGIN:DAYLIGHT
TZOFFSETFROM:-0500
TZOFFSETTO:-0400
TZNAME:EDT
DTSTART:20230312T070000
END:DAYLIGHT
BEGIN:STANDARD
TZOFFSETFROM:-0400
TZOFFSETTO:-0500
TZNAME:EST
DTSTART:20231105T060000
END:STANDARD
BEGIN:DAYLIGHT
TZOFFSETFROM:-0500
TZOFFSETTO:-0400
TZNAME:EDT
DTSTART:20240310T070000
END:DAYLIGHT
BEGIN:STANDARD
TZOFFSETFROM:-0400
TZOFFSETTO:-0500
TZNAME:EST
DTSTART:20241103T060000
END:STANDARD
BEGIN:DAYLIGHT
TZOFFSETFROM:-0500
TZOFFSETTO:-0400
TZNAME:EDT
DTSTART:20250309T070000
END:DAYLIGHT
BEGIN:STANDARD
TZOFFSETFROM:-0400
TZOFFSETTO:-0500
TZNAME:EST
DTSTART:20251102T060000
END:STANDARD
END:VTIMEZONE
BEGIN:VEVENT
DTSTART;TZID=America/New_York:20240615T100000
DTEND;TZID=America/New_York:20240615T170000
DTSTAMP:20260421T120905
CREATED:20220301T202555Z
LAST-MODIFIED:20240502T123119Z
UID:7246-1718445600-1718470800@harmonymuseum.org
SUMMARY:House & Garden Tour
DESCRIPTION:Tour historic homes and beautiful gardens in our charming town. Reservations required. Lunch options available. Tickets go on sale May 1st. \nCheck back for details soon\, but mark your calendars now to attend this unique event! \n 
URL:https://harmonymuseum.org/events/house-garden-tour/
CATEGORIES:Events
END:VEVENT
END:VCALENDAR