BEGIN:VCALENDAR
VERSION:2.0
PRODID:-//Harmony Museum - ECPv6.15.20//NONSGML v1.0//EN
CALSCALE:GREGORIAN
METHOD:PUBLISH
X-WR-CALNAME:Harmony Museum
X-ORIGINAL-URL:https://harmonymuseum.org
X-WR-CALDESC:Events for Harmony Museum
REFRESH-INTERVAL;VALUE=DURATION:PT1H
X-Robots-Tag:noindex
X-PUBLISHED-TTL:PT1H
BEGIN:VTIMEZONE
TZID:UTC
BEGIN:STANDARD
TZOFFSETFROM:+0000
TZOFFSETTO:+0000
TZNAME:UTC
DTSTART:20240101T000000
END:STANDARD
END:VTIMEZONE
BEGIN:VEVENT
DTSTART;TZID=UTC:20251109T100000
DTEND;TZID=UTC:20251109T160000
DTSTAMP:20260420T113719
CREATED:20231006T182712Z
LAST-MODIFIED:20250930T035654Z
UID:7985-1762682400-1762704000@harmonymuseum.org
SUMMARY:German Christmas Market
DESCRIPTION:Our German Christmas Market is back for 2025. November 8 and 9 \nSaturday 10 to 6 and Sunday 10 to 4 \n 
URL:https://harmonymuseum.org/events/german-christmas-market-2-2025-11-09/
CATEGORIES:Events
ATTACH;FMTTYPE=image/webp:https://harmonymuseum.org/wp-content/uploads/2023/10/IMG_6283-scaled.webp
END:VEVENT
END:VCALENDAR